Workbook

Sheet 第1页
A1: 江苏师范大学研究生课程考核记录表
A2: 课程编号： 课程名称： 课程属性： 班级：2026MPA
A3: 开课学期： 开课院系：历史文化与公共管理学院 任课教师： 学时： 学分：
A4: 序号 | B4: 院系 | C4: 学号 | D4: 姓名 | E4: 平时成绩（注明项目和日期） | L4: 平时总评成绩 | M4: 期末考试成绩 | N4: 成绩
A6: 1 | B6: 历史文化与公共管理学院 | C6: 103202251121 | D6: =[1]数据表_0!B4 -> 倪璇皓贞
A7: 2 | B7: 历史文化与公共管理学院 | C7: 103202251122 | D7: =[1]数据表_0!B5 -> 朱潇
A8: 3 | B8: 历史文化与公共管理学院 | C8: 103202261101 | D8: =[1]数据表_0!B6 -> 钟熙瑶
A9: 4 | B9: 历史文化与公共管理学院 | C9: 103202261102 | D9: =[1]数据表_0!B7 -> 魏韶
A10: 5 | B10: 历史文化与公共管理学院 | C10: 103202261103 | D10: =[1]数据表_0!B8 -> 曹楚悦
A11: 6 | B11: 历史文化与公共管理学院 | C11: 103202261104 | D11: =[1]数据表_0!B9 -> 刘昌鑫
A12: 7 | B12: 历史文化与公共管理学院 | C12: 103202261105 | D12: =[1]数据表_0!B10 -> 张耀
A13: 8 | B13: 历史文化与公共管理学院 | C13: 103202261106 | D13: =[1]数据表_0!B11 -> 张超
A14: 9 | B14: 历史文化与公共管理学院 | C14: 103202261107 | D14: =[1]数据表_0!B12 -> 吕晴
A15: 10 | B15: 历史文化与公共管理学院 | C15: 103202261108 | D15: =[1]数据表_0!B13 -> 殷文心
A16: 11 | B16: 历史文化与公共管理学院 | C16: 103202261109 | D16: =[1]数据表_0!B14 -> 张玉
A17: 12 | B17: 历史文化与公共管理学院 | C17: 103202261110 | D17: =[1]数据表_0!B15 -> 朱晓红
... A29: 24 | B29: 历史文化与公共管理学院 | C29: 103202261122 | D29: =[1]数据表_0!B27 -> 赵晗秀
A30: 任课教师签名： 分管院长签名（学院盖章）： 日期：

Sheet 第2页
A1: 江苏师范大学研究生课程考核记录表
A2: 课程编号： 课程名称： 课程属性： 班级：2026MPA
A3: 开课学期： 开课院系：历史文化与公共管理学院 任课教师： 学时： 学分：
A4: 序号 | B4: 院系 | C4: 学号 | D4: 姓名 | E4: 平时成绩（注明项目和日期） | L4: 平时总评成绩 | M4: 期末考试成绩 | N4: 成绩
A6: 25 | B6: 历史文化与公共管理学院 | C6: 103202261123 | D6: =[1]数据表_0!B28 -> 陈亨
A7: 26 | B7: 历史文化与公共管理学院 | C7: 103202261124 | D7: =[1]数据表_0!B29 -> 张凯创
A8: 27 | B8: 历史文化与公共管理学院 | C8: 103202261125 | D8: =[1]数据表_0!B30 -> 许虎
A9: 28 | B9: 历史文化与公共管理学院 | C9: 103202261126 | D9: =[1]数据表_0!B31 -> 徐璐
A10: 29 | B10: 历史文化与公共管理学院 | C10: 103202261127 | D10: =[1]数据表_0!B32 -> 陈泽中
A11: 30 | B11: 历史文化与公共管理学院 | C11: 103202261128 | D11: =[1]数据表_0!B33 -> 赵震宇
A12: 31 | B12: 历史文化与公共管理学院 | C12: 103202261129 | D12: =[1]数据表_0!B34 -> 谢丹妮
A13: 32 | B13: 历史文化与公共管理学院 | C13: 103202261130 | D13: =[1]数据表_0!B35 -> 王晨旭
A14: 33 | B14: 历史文化与公共管理学院 | C14: 103202261131 | D14: =[1]数据表_0!B36 -> 李腾鸽
A15: 34 | B15: 历史文化与公共管理学院 | C15: 103202261132 | D15: =[1]数据表_0!B37 -> 徐强强
A16: 35 | B16: 历史文化与公共管理学院 | C16: 103202261133 | D16: =[1]数据表_0!B38 -> 陈天姿
A17: 36 | B17: 历史文化与公共管理学院 | C17: 103202261134 | D17: =[1]数据表_0!B39 -> 王乐民
... A20: 39 | B20: 历史文化与公共管理学院 | C20: 103202261137 | D20: =[1]数据表_0!B42 -> 朱鑫瑶
A21: 40 | B21: 历史文化与公共管理学院 | C21: 103202261138 | D21: =[2]名单!B44 -> 刘希平
A22: 41 | B22: 历史文化与公共管理学院 | C22: 103202261139 | D22: =[2]名单!B45 -> 刘婷
A23: 42 | B23: 历史文化与公共管理学院 | C23: 103202261140 | D23: =[2]名单!B46 -> 衡春艳
A24: 43 | B24: 历史文化与公共管理学院 | C24: 103202261141 | D24: =[2]名单!B47 -> 蒋焱东
A25: 44 | B25: 历史文化与公共管理学院 | C25: 103202261143 | D25: =[2]名单!B49 -> 陈露
A26: 45 | B26: 历史文化与公共管理学院 | C26: 103202261144 | D26: =[2]名单!B50 -> 景禹洁
A27: 46 | B27: 历史文化与公共管理学院 | C27: 103202261146 | D27: =[2]名单!B52 -> 冯星涵
A28: 47 | B28: 历史文化与公共管理学院 | C28: 103202261147 | D28: =[2]名单!B53 -> 胡影
A29: 任课教师签名： 分管院长签名（学院盖章）： 日期：

Sheet 第3页
A1: 江苏师范大学研究生课程考核记录表
A2: 课程编号： 课程名称： 课程属性： 班级：2026MPA
A3: 开课学期： 开课院系：历史文化与公共管理学院 任课教师： 学时： 学分：
A4: 序号 | B4: 院系 | C4: 学号 | D4: 姓名 | E4: 平时成绩（注明项目和日期） | L4: 平时总评成绩 | M4: 期末考试成绩 | N4: 成绩
A6: 50 | B6: 历史文化与公共管理学院 | C6: 103202261148 | D6: =[2]名单!B54 -> 李苏云
A7: 51 | B7: 历史文化与公共管理学院 | C7: 103202261149 | D7: =[2]名单!B55 -> 刘翰之
A8: 52 | B8: 历史文化与公共管理学院 | C8: 103202261150 | D8: =[2]名单!B56 -> 陈静秋
A9: 53 | B9: 历史文化与公共管理学院 | C9: 103202261151 | D9: =[2]名单!B57 -> 高福来
A10: 54 | B10: 历史文化与公共管理学院 | C10: 103202261152 | D10: =[2]名单!B58 -> 王海鑫
A11: 55 | B11: 历史文化与公共管理学院 | C11: 103202261153 | D11: =[2]名单!B59 -> 姚馨悦
A12: 56 | B12: 历史文化与公共管理学院 | C12: 103202261154 | D12: =[2]名单!B60 -> 田汶丘
A13: 57 | B13: 历史文化与公共管理学院 | C13: 103202261155 | D13: =[2]名单!B61 -> 刘娇洋
A14: 58 | B14: 历史文化与公共管理学院 | C14: 103202261156 | D14: =[2]名单!B62 -> 袁国正
A15: 59 | B15: 历史文化与公共管理学院 | C15: 103202261157 | D15: =[2]名单!B63 -> 许洁
A16: 60 | B16: 历史文化与公共管理学院 | C16: 103202261158 | D16: =[2]名单!B64 -> 李荃
A17: 61 | B17: 历史文化与公共管理学院 | C17: 103202261159 | D17: =[2]名单!B65 -> 陈宇
... A27: 71 | B27: 历史文化与公共管理学院 | C27: 103202261169 | D27: =[2]名单!B75 -> 谢孟尧
A28: 任课教师签名： 分管院长签名（学院盖章）： 日期：
